BEGIN:VCALENDAR
VERSION:2.0
PRODID:-//eventon.com NONSGML v1.0//EN
BEGIN:VEVENT
UID:69e6221421ea8
DTSTAMP:20260420T145444
DTSTART:20220813T060000Z
DTEND:20220813T080000Z
TZID:Pacific/Midway
LOCATION:Wein am Main Rüsselsheim Großparkplatz in der Mainstraße\,  65428 Rüsselsheim
SUMMARY:"Wein am Main" in Rüsselsheim
DESCRIPTION: Die Reiner Kowalski Show bei &#8222;Wein am Main&#8220; in Rüsselsheim. Die Elvis-Oldie-Schlager Party am Weinstand auf dem großen Parkplatz am Rüsselsheimer Mainufer. (Mainstraße\,  65428 Rüsselsheim)
URL:https://reinerkowalski.de/events/wein-am-main-in-ruesselsheim-2/
END:VEVENT
END:VCALENDAR